BEGIN:VCALENDAR
VERSION:2.0
PRODID:-//Old Hickory Gun Club - ECPv6.15.20//NONSGML v1.0//EN
CALSCALE:GREGORIAN
METHOD:PUBLISH
X-ORIGINAL-URL:https://oldhickorygunclubnc.com
X-WR-CALDESC:Events for Old Hickory Gun Club
REFRESH-INTERVAL;VALUE=DURATION:PT1H
X-Robots-Tag:noindex
X-PUBLISHED-TTL:PT1H
BEGIN:VTIMEZONE
TZID:America/Kentucky/Louisville
BEGIN:DAYLIGHT
TZOFFSETFROM:-0500
TZOFFSETTO:-0400
TZNAME:EDT
DTSTART:20240310T070000
END:DAYLIGHT
BEGIN:STANDARD
TZOFFSETFROM:-0400
TZOFFSETTO:-0500
TZNAME:EST
DTSTART:20241103T060000
END:STANDARD
BEGIN:DAYLIGHT
TZOFFSETFROM:-0500
TZOFFSETTO:-0400
TZNAME:EDT
DTSTART:20250309T070000
END:DAYLIGHT
BEGIN:STANDARD
TZOFFSETFROM:-0400
TZOFFSETTO:-0500
TZNAME:EST
DTSTART:20251102T060000
END:STANDARD
BEGIN:DAYLIGHT
TZOFFSETFROM:-0500
TZOFFSETTO:-0400
TZNAME:EDT
DTSTART:20260308T070000
END:DAYLIGHT
BEGIN:STANDARD
TZOFFSETFROM:-0400
TZOFFSETTO:-0500
TZNAME:EST
DTSTART:20261101T060000
END:STANDARD
END:VTIMEZONE
BEGIN:VTIMEZONE
TZID:UTC
BEGIN:STANDARD
TZOFFSETFROM:+0000
TZOFFSETTO:+0000
TZNAME:UTC
DTSTART:20240101T000000
END:STANDARD
END:VTIMEZONE
BEGIN:VEVENT
DTSTART;TZID=America/Kentucky/Louisville:20251220T093000
DTEND;TZID=America/Kentucky/Louisville:20251220T120000
DTSTAMP:20260423T042603
CREATED:20251126T191315Z
LAST-MODIFIED:20251126T191315Z
UID:5969-1766223000-1766232000@oldhickorygunclubnc.com
SUMMARY:Armed Women of America
DESCRIPTION:Armed Women of America Mission\nAWA exists to enable women to be their own self-protectors\, creating freedom\, peace of mind\, and confidence in themselves. Our vision is that women have the skills\, mindset\, and training to defend themselves and those in their care. \nChapters across the country offer a welcoming\, non-intimidating place for women to learn more about the safe and responsible use of firearms\, including firearms safety\, personal protection\, concealed carry\, mindset and so much more. \nThe meetings offer classroom and range time\, all under the guidance of certified women instructors who volunteer their time. \nArmed Women of America provides a safe and comfortable environment for women to gather\, learn\, train\, and discuss issues important to women gun owners.
URL:https://oldhickorygunclubnc.com/event/armed-women-of-america/
END:VEVENT
BEGIN:VEVENT
DTSTART;TZID=UTC:20251213T090000
DTEND;TZID=UTC:20251213T120000
DTSTAMP:20260423T042603
CREATED:20241101T003544Z
LAST-MODIFIED:20251126T184547Z
UID:1612-1765616400-1765627200@oldhickorygunclubnc.com
SUMMARY:22 LR Shoot - Test Your Aim and Have Fun!
DESCRIPTION:Sign-In: 9:00 AM\nEntry Fee: $5.00 \nCalling all shooters!\nJoin us for an exciting 22 LR Shoot featuring three competitive divisions tailored to every type of shooter. Whether you’re here to plink for fun or show off your precision skills\, there’s a place for you on the range. \nDivisions: \n\nPlinkers: Open to any iron sight 22 Rifle (Bolt\, Lever\, Pump\, Semi). Perfect for those who love the classic shooting experience.\nSquirrel Chasers: For those with a keen eye\, bring any scoped 22 Rifle with capped turrets and prove your skills.\nShow Offs: The ultimate challenge! Any scoped 22 Rifle with Target Turrets is welcome in this division\, where precision is key.\n\nPermitted Shooting Aids: \n\nElbows\nBags\nBipods\nShooting Sticks\n\nPlease Note: No standalone adjustable rests allowed. \nPistol Steel Challenge (Weather Permitting) – Test your speed and accuracy with your favorite  22LR pistol in this thrilling steel target event. Open to all participants! \nJoin us for a day of friendly competition\, skill-building\, and fun. Whether you’re aiming for the bullseye or just here to enjoy the day\, the 22 LR Shoot is the perfect event to showcase your shooting talent.
URL:https://oldhickorygunclubnc.com/event/22-lr-shoot-test-your-aim-and-have-fun/
ATTACH;FMTTYPE=image/jpeg:https://oldhickorygunclubnc.com/wp-content/uploads/2024/09/22-lr-ammo-pile.jpg
END:VEVENT
BEGIN:VEVENT
DTSTART;TZID=UTC:20251206T090000
DTEND;TZID=UTC:20251206T120000
DTSTAMP:20260423T042603
CREATED:20240904T233359Z
LAST-MODIFIED:20251126T184751Z
UID:1614-1765011600-1765022400@oldhickorygunclubnc.com
SUMMARY:Old Hickory Regulators - Single Action Shooting Society (SASS) Event
DESCRIPTION:Step Back in Time with the Old Hickory Regulators! \nGet ready to experience the Old West like never before with the Old Hickory Regulators\, a proud chapter of the Single Action Shooting Society (SASS). Dust off your cowboy boots\, grab your six-shooters\, and prepare for an action-packed day of competitive shooting\, cowboy camaraderie\, and authentic Old West fun. \nEvent Highlights: \n\nAuthentic Shooting Stages: Engage in carefully designed stages that replicate classic Old West scenarios. Compete with revolvers\, rifles\, and shotguns to hit steel targets in the fastest and most accurate way possible.\nPeriod Costumes: Immerse yourself in the experience by dressing in period-appropriate attire. From cowboys to lawmen\, show off your Old West style as you compete.\nFamily-Friendly Fun: The event is open to shooters of all ages and skill levels. Bring the whole family and enjoy a day of safe\, exciting\, and fun-filled shooting.\nMeet Fellow Cowboys and Cowgirls: Connect with other SASS members and enthusiasts who share your passion for the Old West and competitive shooting.\n\nWhat You Need to Know: \n\nEquipment Requirements: Participants should bring SASS-compliant firearms and ammunition. If you’re new to the sport\, rentals may be available—please contact us in advance.\nSafety First: Safety is our top priority. All participants must attend a mandatory safety briefing before the event begins.\n\nDon’t Miss Out!\nWhether you’re a seasoned SASS competitor or new to the world of cowboy action shooting\, the Old Hickory Regulators event promises a day of thrilling competition\, great company\, and unforgettable Old West adventures.
URL:https://oldhickorygunclubnc.com/event/old-hickory-regulators-single-action-shooting-society-sass-event/
ATTACH;FMTTYPE=image/jpeg:https://oldhickorygunclubnc.com/wp-content/uploads/2024/09/Old-Hickory-Regulators-SASS.jpeg
END:VEVENT
BEGIN:VEVENT
DTSTART;TZID=UTC:20251130T080000
DTEND;TZID=UTC:20251130T170000
DTSTAMP:20260423T042603
CREATED:20241006T203512Z
LAST-MODIFIED:20251029T171405Z
UID:1626-1764489600-1764522000@oldhickorygunclubnc.com
SUMMARY:Step Back in Time with the Old Hickory Regulators - SASS Fun Shoot
DESCRIPTION:Event Date: Every 4th Saturday of the Month\nLocation: Old Hickory Gun Club\, Rocky Mount NC\nSign-In: 9:00 am \nLooking for a relaxed day on the range?\nJoin the Old Hickory Regulators for our monthly SASS Fun Shoot! This laid-back event is perfect for both seasoned shooters and newcomers to the sport. Dust off your cowboy boots\, grab your six-shooter\, and get ready for a day of shooting\, fun\, and Old West adventure. \nEvent Highlights: \n\nCasual Shooting Stages: Enjoy simple and fun stages designed to give you a taste of classic Old West scenarios. Compete with revolvers\, rifles\, and shotguns\, or take it easy with a .22 LR rifle or revolver.\nNo Gear? No Problem: If you’re curious about cowboy action shooting but don’t have the equipment\, we’ve got you covered! We’ll provide .22 LR rifles and revolvers for you to try out—just bring your own .22 LR lead-nose ammo and a box of 12-gauge light target shells (1 oz loads) if you’d like to shoot.\nPeriod Costumes Optional: While dressing in Old West attire is encouraged\, this event is all about having fun—costumes are optional.\nAll Ages and Skill Levels Welcome: Whether you’re a seasoned competitor or brand new to the sport\, the SASS Fun Shoot is open to everyone. Bring the family and enjoy a relaxed day of shooting.\nMeet New Friends: Connect with fellow cowboys\, cowgirls\, and shooting enthusiasts in a more laid-back setting.\n\nWhat You Need to Know: \n\nEquipment Requirements: Bring your own firearms or use our .22 LR gear. If you’re borrowing gear\, please bring the appropriate ammo (listed above).\nSafety Briefing: All participants must attend a mandatory safety briefing before the shoot begins. Safety is our top priority.\n\nDon’t Miss Out!\nWhether you’re here to practice your skills or just enjoy a day on the range\, the Old Hickory Regulators Fun Shoot is the perfect way to unwind and experience the thrill of cowboy action shooting. \n 
URL:https://oldhickorygunclubnc.com/event/step-back-in-time-with-the-old-hickory-regulators-sass-fun-shoot/
END:VEVENT
BEGIN:VEVENT
DTSTART;TZID=America/Kentucky/Louisville:20251102T080000
DTEND;TZID=America/Kentucky/Louisville:20251102T130000
DTSTAMP:20260423T042603
CREATED:20250311T181936Z
LAST-MODIFIED:20250311T182048Z
UID:1971-1762070400-1762088400@oldhickorygunclubnc.com
SUMMARY:ATA Registered Event
DESCRIPTION:Classification 8:30 am\n\n\nShooters to Line 9:30 am\n\n\nDaily fees $8\n\n\n100 Singles\n\n\nTarget fee – $32.00\n\n\nLewis option – $5.00\n\n\nEvent 2 100 Caps\n\n\nTarget fee – $32.00\n\n\nLewis option – $5.00\n\n\nDaily Mid 50 – $5.00\n\n\nEvent 3 50 pair Doubles\n\n\nTarget fee – $32.00\n\n\nLewis Option – $5.00\n\n\nEvent 4 HOA Total for Events 1\,2\, and 3\n\n\nIn lieu of trophies $4.00 of each fully paid entry will be returned to shooters as follows.\n\n\n$1.00 to event champ $2.50 to classes and yardage groups and $0.50 to HOA.\n\n\nJuniors and Sub Juniors may shoot for $16.00/100 but cannot play options.
URL:https://oldhickorygunclubnc.com/event/ata-registered-event/
END:VEVENT
BEGIN:VEVENT
DTSTART;TZID=America/Kentucky/Louisville:20250927T080000
DTEND;TZID=America/Kentucky/Louisville:20250927T130000
DTSTAMP:20260423T042603
CREATED:20250311T181837Z
LAST-MODIFIED:20250311T181837Z
UID:1969-1758960000-1758978000@oldhickorygunclubnc.com
SUMMARY:ATA Registered Shoot
DESCRIPTION:Classification 8:30 am\n\n\nShooters to Line 9:30 am\n\n\nDaily fees $8\n\n\n100 Singles\n\n\nTarget fee – $32.00\n\n\nLewis option – $5.00\n\n\nEvent 2 100 Caps\n\n\nTarget fee – $32.00\n\n\nLewis option – $5.00\n\n\nDaily Mid 50 – $5.00\n\n\nEvent 3 50 pair Doubles\n\n\nTarget fee – $32.00\n\n\nLewis Option – $5.00\n\n\nEvent 4 HOA Total for Events 1\,2\, and 3\n\n\nIn lieu of trophies $4.00 of each fully paid entry will be returned to shooters as follows.\n\n\n$1.00 to event champ $2.50 to classes and yardage groups and $0.50 to HOA.\n\n\nJuniors and Sub Juniors may shoot for $16.00/100 but cannot play options.
URL:https://oldhickorygunclubnc.com/event/ata-registered-shoot-4/
END:VEVENT
BEGIN:VEVENT
DTSTART;TZID=America/Kentucky/Louisville:20250720T080000
DTEND;TZID=America/Kentucky/Louisville:20250720T080000
DTSTAMP:20260423T042603
CREATED:20250311T181738Z
LAST-MODIFIED:20250716T173551Z
UID:1967-1752998400-1752998400@oldhickorygunclubnc.com
SUMMARY:ATA Registered Shoot
DESCRIPTION:Classification 8:30 am\n\n\nShooters to Line 9:30 am\n\n\nDaily fees $8\n\n\n100 Singles\n\n\nTarget fee – $32.00\n\n\nLewis option – $5.00\n\n\nEvent 2 100 Caps\n\n\nTarget fee – $32.00\n\n\nLewis option – $5.00\n\n\nDaily Mid 50 – $5.00\n\n\nEvent 3 50 pair Doubles\n\n\nTarget fee – $32.00\n\n\nLewis Option – $5.00\n\n\nEvent 4 HOA Total for Events 1\,2\, and 3\n\n\nIn lieu of trophies $4.00 of each fully paid entry will be returned to shooters as follows.\n\n\n$1.00 to event champ $2.50 to classes and yardage groups and $0.50 to HOA.\n\n\nJuniors and Sub Juniors may shoot for $16.00/100 but cannot play options.
URL:https://oldhickorygunclubnc.com/event/ata-registered-shoot-3/
END:VEVENT
BEGIN:VEVENT
DTSTART;TZID=America/Kentucky/Louisville:20250524T080000
DTEND;TZID=America/Kentucky/Louisville:20250524T130000
DTSTAMP:20260423T042603
CREATED:20250311T181406Z
LAST-MODIFIED:20250311T181406Z
UID:1965-1748073600-1748091600@oldhickorygunclubnc.com
SUMMARY:ATA Registered Shoot
DESCRIPTION:Classification 8:30 am\n\n\nShooters to Line 9:30 am\n\n\nDaily fees $8\n\n\n100 Singles\n\n\nTarget fee – $32.00\n\n\nLewis option – $5.00\n\n\nEvent 2 100 Caps\n\n\nTarget fee – $32.00\n\n\nLewis option – $5.00\n\n\nDaily Mid 50 – $5.00\n\n\nEvent 3 50 pair Doubles\n\n\nTarget fee – $32.00\n\n\nLewis Option – $5.00\n\n\nEvent 4 HOA Total for Events 1\,2\, and 3\n\n\nIn lieu of trophies $4.00 of each fully paid entry will be returned to shooters as follows.\n\n\n$1.00 to event champ $2.50 to classes and yardage groups and $0.50 to HOA.\n\n\nJuniors and Sub Juniors may shoot for $16.00/100 but cannot play options.
URL:https://oldhickorygunclubnc.com/event/ata-registered-shoot/
END:VEVENT
BEGIN:VEVENT
DTSTART;TZID=America/Kentucky/Louisville:20250322T080000
DTEND;TZID=America/Kentucky/Louisville:20250322T130000
DTSTAMP:20260423T042603
CREATED:20250311T180920Z
LAST-MODIFIED:20250311T180920Z
UID:1963-1742630400-1742648400@oldhickorygunclubnc.com
SUMMARY:ATA Registered Shoot
DESCRIPTION:Classification 8:30 am\n\n\nShooters to Line 9:30 am\n\n\nDaily fees $8\n\n\n100 Singles\n\n\nTarget fee – $32.00\n\n\nLewis option – $5.00\n\n\nEvent 2 100 Caps\n\n\nTarget fee – $32.00\n\n\nLewis option – $5.00\n\n\nDaily Mid 50 – $5.00\n\n\nEvent 3 50 pair Doubles\n\n\nTarget fee – $32.00\n\n\nLewis Option – $5.00\n\n\nEvent 4 HOA Total for Events 1\,2\, and 3\n\n\nIn lieu of trophies $4.00 of each fully paid entry will be returned to shooters as follows.\n\n\n$1.00 to event champ $2.50 to classes and yardage groups and $0.50 to HOA.\n\n\nJuniors and Sub Juniors may shoot for $16.00/100 but cannot play options.
URL:https://oldhickorygunclubnc.com/event/ata-registered-shoot-2/
END:VEVENT
END:VCALENDAR